BEGIN:VCALENDAR
VERSION:2.0
PRODID:-//Navigating Through Quicksand - ECPv6.15.20//NONSGML v1.0//EN
CALSCALE:GREGORIAN
METHOD:PUBLISH
X-WR-CALNAME:Navigating Through Quicksand
X-ORIGINAL-URL:https://navigatingthroughquicksand.com
X-WR-CALDESC:Events for Navigating Through Quicksand
REFRESH-INTERVAL;VALUE=DURATION:PT1H
X-Robots-Tag:noindex
X-PUBLISHED-TTL:PT1H
BEGIN:VTIMEZONE
TZID:America/New_York
BEGIN:DAYLIGHT
TZOFFSETFROM:-0500
TZOFFSETTO:-0400
TZNAME:EDT
DTSTART:20220313T070000
END:DAYLIGHT
BEGIN:STANDARD
TZOFFSETFROM:-0400
TZOFFSETTO:-0500
TZNAME:EST
DTSTART:20221106T060000
END:STANDARD
BEGIN:DAYLIGHT
TZOFFSETFROM:-0500
TZOFFSETTO:-0400
TZNAME:EDT
DTSTART:20230312T070000
END:DAYLIGHT
BEGIN:STANDARD
TZOFFSETFROM:-0400
TZOFFSETTO:-0500
TZNAME:EST
DTSTART:20231105T060000
END:STANDARD
BEGIN:DAYLIGHT
TZOFFSETFROM:-0500
TZOFFSETTO:-0400
TZNAME:EDT
DTSTART:20240310T070000
END:DAYLIGHT
BEGIN:STANDARD
TZOFFSETFROM:-0400
TZOFFSETTO:-0500
TZNAME:EST
DTSTART:20241103T060000
END:STANDARD
END:VTIMEZONE
BEGIN:VEVENT
DTSTART;TZID=America/New_York:20230327T150000
DTEND;TZID=America/New_York:20230327T163000
DTSTAMP:20260419T110355
CREATED:20240104T155819Z
LAST-MODIFIED:20240104T155819Z
UID:20000043-1679929200-1679934600@navigatingthroughquicksand.com
SUMMARY:Shrewsbury High School MAKE A DIFFERENCE Combination Workshop: Communication and BRING IT!Girls Softball Program
DESCRIPTION:Throughout the interactive workshop Ashley will be focusing on: energy\, intensity\, resiliency\, mindset\, encouragement\, trust and confidence. She will emphasize the Colonials motto EFFORT/ATTITUDE/DISCIPLINE and reinforce the school mission of providing challenging\, diverse learning opportunities; promoting creativity and independent thinking; and empowering students to become capable\, caring\, active contributors to the world in which they live.  \nAshley will also incorporate activities that improve:  \n-body language \n-teamwork \n-unity \n-believing in yourself \n-going ALL IN \n-committing to results and set goals \n*Open to Shrewsbury student-athletes only
URL:https://navigatingthroughquicksand.com/event/shrewsbury-high-school-make-a-difference-combination-workshop-communication-and-bring-itgirls-softball-program/
LOCATION:Shrewsbury High School
END:VEVENT
BEGIN:VEVENT
DTSTART;TZID=America/New_York:20230126T180000
DTEND;TZID=America/New_York:20230126T183000
DTSTAMP:20260419T110355
CREATED:20240104T155914Z
LAST-MODIFIED:20240104T155914Z
UID:20000044-1674756000-1674757800@navigatingthroughquicksand.com
SUMMARY:Shrewsbury High School Presence Refresher Workshop: Connection and EncouragementBoys JV Basketball
DESCRIPTION:Throughout the interactive workshop Ashley will be focusing on: communication\, body language\, tone\, and teamwork. She will emphasize the Colonials motto EFFORT/ATTITUDE/DISCIPLINE as well as reinforce the importance of how the little details add up to big results.  \nAshley will also incorporate activities that improve:\n-building rapport\n-mindset\n-overcoming doubts/fears\n-leadership  \nOpen to Shrewsbury student-athletes only
URL:https://navigatingthroughquicksand.com/event/shrewsbury-high-school-presence-refresher-workshop-connection-and-encouragementboys-jv-basketball/
LOCATION:Shrewsbury High School
END:VEVENT
BEGIN:VEVENT
DTSTART;TZID=America/New_York:20230118T180000
DTEND;TZID=America/New_York:20230118T193000
DTSTAMP:20260419T110355
CREATED:20240104T160012Z
LAST-MODIFIED:20240104T160012Z
UID:20000045-1674064800-1674070200@navigatingthroughquicksand.com
SUMMARY:Shrewsbury High School Presence Combination Workshop: Confidence and CommunicationBoys Varsity Basketball
DESCRIPTION:Throughout the interactive workshop Ashley will be focusing on: building resiliency\, mindset\, breathing techniques\, being present\, and encouragement. She will emphasize the Colonials motto of EFFORT/ATTITUDE/DISCIPLINE as well as reinforce and deepen the varsity teams “family” bond.  \nAshley will also incorporate activities that improve:\n-mental toughness\n-confidence\n-body language\n-small shifts that create positive overall results \nOpen to Shrewsbury student-athletes only
URL:https://navigatingthroughquicksand.com/event/shrewsbury-high-school-presence-combination-workshop-confidence-and-communicationboys-varsity-basketball/
LOCATION:Shrewsbury High School
END:VEVENT
END:VCALENDAR