BEGIN:VCALENDAR
VERSION:2.0
PRODID:-//Navigating Through Quicksand - ECPv6.15.20//NONSGML v1.0//EN
CALSCALE:GREGORIAN
METHOD:PUBLISH
X-ORIGINAL-URL:https://navigatingthroughquicksand.com
X-WR-CALDESC:Events for Navigating Through Quicksand
REFRESH-INTERVAL;VALUE=DURATION:PT1H
X-Robots-Tag:noindex
X-PUBLISHED-TTL:PT1H
BEGIN:VTIMEZONE
TZID:America/New_York
BEGIN:DAYLIGHT
TZOFFSETFROM:-0500
TZOFFSETTO:-0400
TZNAME:EDT
DTSTART:20240310T070000
END:DAYLIGHT
BEGIN:STANDARD
TZOFFSETFROM:-0400
TZOFFSETTO:-0500
TZNAME:EST
DTSTART:20241103T060000
END:STANDARD
BEGIN:DAYLIGHT
TZOFFSETFROM:-0500
TZOFFSETTO:-0400
TZNAME:EDT
DTSTART:20250309T070000
END:DAYLIGHT
BEGIN:STANDARD
TZOFFSETFROM:-0400
TZOFFSETTO:-0500
TZNAME:EST
DTSTART:20251102T060000
END:STANDARD
BEGIN:DAYLIGHT
TZOFFSETFROM:-0500
TZOFFSETTO:-0400
TZNAME:EDT
DTSTART:20260308T070000
END:DAYLIGHT
BEGIN:STANDARD
TZOFFSETFROM:-0400
TZOFFSETTO:-0500
TZNAME:EST
DTSTART:20261101T060000
END:STANDARD
END:VTIMEZONE
BEGIN:VEVENT
DTSTART;TZID=America/New_York:20250807T123000
DTEND;TZID=America/New_York:20250807T153000
DTSTAMP:20260420T154035
CREATED:20250721T205237Z
LAST-MODIFIED:20250721T205237Z
UID:20000308-1754569800-1754580600@navigatingthroughquicksand.com
SUMMARY:Girls IncConfidence: I'M WORTH IT! Workshop
DESCRIPTION:Ashley will present 3 interactive workshop sessions to the Girls Inc Summer Program for ages 5-12 that will focus on: character\, embracing the process of progress\, mindset\, building rapport\, self-talk\, standards\, routines\, creating high performance habits\, simplicity\, turning perceived setbacks into empowering comebacks\, social/emotional learning\, effective communication\, the power of influence\, energy\, and language/action alignment. The Girls Inc mission to inspire all girls to be strong\, smart and bold as well as the Girls Inc values of: Recognize and support the strength in every girl. Respect the dignity of each human being and demonstrate genuine care and concern for the well-being of others. Understand and appreciate diversity\, embrace inclusiveness\, and advance equity. Drive for results anchored in integrity and accountability. Collaborate for impact. will be emphasized and reinforced during the workshops.  \nOther topics included throughout the activities:\n-body language\n-mindset\n-resiliency\n-accountability\n-GRIT \nOpen to Girls Inc Summer Program participants ONLY
URL:https://navigatingthroughquicksand.com/event/girls-incconfidence-im-worth-it-workshop/
LOCATION:Girls Inc.
END:VEVENT
END:VCALENDAR