BEGIN:VCALENDAR
VERSION:2.0
PRODID:-//Navigating Through Quicksand - ECPv6.15.20//NONSGML v1.0//EN
CALSCALE:GREGORIAN
METHOD:PUBLISH
X-WR-CALNAME:Navigating Through Quicksand
X-ORIGINAL-URL:https://navigatingthroughquicksand.com
X-WR-CALDESC:Events for Navigating Through Quicksand
REFRESH-INTERVAL;VALUE=DURATION:PT1H
X-Robots-Tag:noindex
X-PUBLISHED-TTL:PT1H
BEGIN:VTIMEZONE
TZID:America/New_York
BEGIN:DAYLIGHT
TZOFFSETFROM:-0500
TZOFFSETTO:-0400
TZNAME:EDT
DTSTART:20230312T070000
END:DAYLIGHT
BEGIN:STANDARD
TZOFFSETFROM:-0400
TZOFFSETTO:-0500
TZNAME:EST
DTSTART:20231105T060000
END:STANDARD
BEGIN:DAYLIGHT
TZOFFSETFROM:-0500
TZOFFSETTO:-0400
TZNAME:EDT
DTSTART:20240310T070000
END:DAYLIGHT
BEGIN:STANDARD
TZOFFSETFROM:-0400
TZOFFSETTO:-0500
TZNAME:EST
DTSTART:20241103T060000
END:STANDARD
BEGIN:DAYLIGHT
TZOFFSETFROM:-0500
TZOFFSETTO:-0400
TZNAME:EDT
DTSTART:20250309T070000
END:DAYLIGHT
BEGIN:STANDARD
TZOFFSETFROM:-0400
TZOFFSETTO:-0500
TZNAME:EST
DTSTART:20251102T060000
END:STANDARD
END:VTIMEZONE
BEGIN:VEVENT
DTSTART;TZID=America/New_York:20240912T070000
DTEND;TZID=America/New_York:20240912T080000
DTSTAMP:20260421T061805
CREATED:20240905T112357Z
LAST-MODIFIED:20240905T112357Z
UID:20000187-1726124400-1726128000@navigatingthroughquicksand.com
SUMMARY:Marlborough High SchoolLeadership Workshop: The Ripple Effect Student-Athlete Leaders
DESCRIPTION:Throughout this interactive workshop Ashley will be focusing on: the power of influence\, values\, getting out of your comfort zone\, accountability\, communication\, embracing the process of progress\, language/action alignment\, turning perceived setbacks into empowering comebacks and camaraderie. She will emphasize the PANTHERS Athletic Value: Be A GREAT Teammate as well as reinforce the MHS mission to: Communicate Effectively. Think Critically. Collaborate Productively\, and Solve Problems Efficiently. \nAshley will also incorporate activities to improve:\n-Confidence\n-Resiliency\n-Mindset\n-Character \nOpen to Marlborough High School Student-Athletes ONLY
URL:https://navigatingthroughquicksand.com/event/marlborough-high-schoolleadership-workshop-the-ripple-effect-student-athlete-leaders/
LOCATION:Marlborough High School
END:VEVENT
END:VCALENDAR